BEGIN:VCALENDAR
VERSION:2.0
PRODID:-//Caissa Wolfenb&uuml;ttel e.V. - ECPv6.15.20//NONSGML v1.0//EN
CALSCALE:GREGORIAN
METHOD:PUBLISH
X-ORIGINAL-URL:https://caissa-wolfenbuettel.de
X-WR-CALDESC:Veranstaltungen für Caissa Wolfenb&uuml;ttel e.V.
REFRESH-INTERVAL;VALUE=DURATION:PT1H
X-Robots-Tag:noindex
X-PUBLISHED-TTL:PT1H
BEGIN:VTIMEZONE
TZID:Europe/Berlin
BEGIN:DAYLIGHT
TZOFFSETFROM:+0100
TZOFFSETTO:+0200
TZNAME:CEST
DTSTART:20260329T010000
END:DAYLIGHT
BEGIN:STANDARD
TZOFFSETFROM:+0200
TZOFFSETTO:+0100
TZNAME:CET
DTSTART:20261025T010000
END:STANDARD
BEGIN:DAYLIGHT
TZOFFSETFROM:+0100
TZOFFSETTO:+0200
TZNAME:CEST
DTSTART:20270328T010000
END:DAYLIGHT
BEGIN:STANDARD
TZOFFSETFROM:+0200
TZOFFSETTO:+0100
TZNAME:CET
DTSTART:20271031T010000
END:STANDARD
BEGIN:DAYLIGHT
TZOFFSETFROM:+0100
TZOFFSETTO:+0200
TZNAME:CEST
DTSTART:20280326T010000
END:DAYLIGHT
BEGIN:STANDARD
TZOFFSETFROM:+0200
TZOFFSETTO:+0100
TZNAME:CET
DTSTART:20281029T010000
END:STANDARD
END:VTIMEZONE
BEGIN:VEVENT
DTSTART;TZID=Europe/Berlin:20270110T000000
DTEND;TZID=Europe/Berlin:20270110T235959
DTSTAMP:20260422T021353
CREATED:20260323T114042Z
LAST-MODIFIED:20260323T114042Z
UID:981-1799539200-1799625599@caissa-wolfenbuettel.de
SUMMARY:5. Spieltag Saison 2026/27
DESCRIPTION:
URL:https://caissa-wolfenbuettel.de/event/5-spieltag-saison-2026-27/
CATEGORIES:Veranstaltung
END:VEVENT
BEGIN:VEVENT
DTSTART;TZID=Europe/Berlin:20270131T000000
DTEND;TZID=Europe/Berlin:20270131T235959
DTSTAMP:20260422T021353
CREATED:20260323T114139Z
LAST-MODIFIED:20260323T114139Z
UID:983-1801353600-1801439999@caissa-wolfenbuettel.de
SUMMARY:6. Spieltag Saison 2026/27
DESCRIPTION:
URL:https://caissa-wolfenbuettel.de/event/6-spieltag-saison-2026-27/
CATEGORIES:Veranstaltung
END:VEVENT
END:VCALENDAR