BEGIN:VCALENDAR
VERSION:2.0
PRODID:-//Caissa Wolfenb&uuml;ttel e.V. - ECPv6.15.20//NONSGML v1.0//EN
CALSCALE:GREGORIAN
METHOD:PUBLISH
X-ORIGINAL-URL:https://caissa-wolfenbuettel.de
X-WR-CALDESC:Veranstaltungen für Caissa Wolfenb&uuml;ttel e.V.
REFRESH-INTERVAL;VALUE=DURATION:PT1H
X-Robots-Tag:noindex
X-PUBLISHED-TTL:PT1H
BEGIN:VTIMEZONE
TZID:Europe/Berlin
BEGIN:DAYLIGHT
TZOFFSETFROM:+0100
TZOFFSETTO:+0200
TZNAME:CEST
DTSTART:20250330T010000
END:DAYLIGHT
BEGIN:STANDARD
TZOFFSETFROM:+0200
TZOFFSETTO:+0100
TZNAME:CET
DTSTART:20251026T010000
END:STANDARD
BEGIN:DAYLIGHT
TZOFFSETFROM:+0100
TZOFFSETTO:+0200
TZNAME:CEST
DTSTART:20260329T010000
END:DAYLIGHT
BEGIN:STANDARD
TZOFFSETFROM:+0200
TZOFFSETTO:+0100
TZNAME:CET
DTSTART:20261025T010000
END:STANDARD
BEGIN:DAYLIGHT
TZOFFSETFROM:+0100
TZOFFSETTO:+0200
TZNAME:CEST
DTSTART:20270328T010000
END:DAYLIGHT
BEGIN:STANDARD
TZOFFSETFROM:+0200
TZOFFSETTO:+0100
TZNAME:CET
DTSTART:20271031T010000
END:STANDARD
END:VTIMEZONE
BEGIN:VEVENT
DTSTART;TZID=Europe/Berlin:20260602T193000
DTEND;TZID=Europe/Berlin:20260602T210000
DTSTAMP:20260421T153325
CREATED:20251113T183529Z
LAST-MODIFIED:20251113T183529Z
UID:901-1780428600-1780434000@caissa-wolfenbuettel.de
SUMMARY:Monatsblitz Juni 2026
DESCRIPTION:Zeitmodus: 5+0 \nStartzeit: 19:30 Uhr
URL:https://caissa-wolfenbuettel.de/event/monatsblitz-juni-2026/
END:VEVENT
BEGIN:VEVENT
DTSTART;TZID=Europe/Berlin:20260606T000000
DTEND;TZID=Europe/Berlin:20260606T235959
DTSTAMP:20260421T153325
CREATED:20260218T102510Z
LAST-MODIFIED:20260218T102510Z
UID:941-1780704000-1780790399@caissa-wolfenbuettel.de
SUMMARY:Ströbecker Maiturnier
DESCRIPTION:Wir wurden wieder eingeladen am traditionellen Ströbecker Maischachturnier teilzunehmen. Die Orga für unsere Mannschaften macht Marc.
URL:https://caissa-wolfenbuettel.de/event/stroebecker-maiturnier/
END:VEVENT
BEGIN:VEVENT
DTSTART;TZID=Europe/Berlin:20260609T000000
DTEND;TZID=Europe/Berlin:20260609T235959
DTSTAMP:20260421T153325
CREATED:20251113T183625Z
LAST-MODIFIED:20251113T183625Z
UID:903-1780963200-1781049599@caissa-wolfenbuettel.de
SUMMARY:Freier Spiel- und Analyseabend
DESCRIPTION:
URL:https://caissa-wolfenbuettel.de/event/freier-spiel-und-analyseabend-3/
END:VEVENT
BEGIN:VEVENT
DTSTART;TZID=Europe/Berlin:20260616T000000
DTEND;TZID=Europe/Berlin:20260616T235959
DTSTAMP:20260421T153325
CREATED:20251113T183709Z
LAST-MODIFIED:20251113T183709Z
UID:905-1781568000-1781654399@caissa-wolfenbuettel.de
SUMMARY:5. Runde Vereinsmeisterschaft
DESCRIPTION:
URL:https://caissa-wolfenbuettel.de/event/5-runde-vereinsmeisterschaft/
END:VEVENT
BEGIN:VEVENT
DTSTART;TZID=Europe/Berlin:20260623T000000
DTEND;TZID=Europe/Berlin:20260623T235959
DTSTAMP:20260421T153325
CREATED:20251113T183843Z
LAST-MODIFIED:20260323T114622Z
UID:907-1782172800-1782259199@caissa-wolfenbuettel.de
SUMMARY:Jahreshauptversammlung Caissa Wolfenbüttel e.V.
DESCRIPTION:
URL:https://caissa-wolfenbuettel.de/event/jahreshauptversammlung-caissa-wolfenbuettel-e-v/
LOCATION:Große Schule\, Rosenwall 14\, Wolfenbüttel\, 38300\, Germany
END:VEVENT
END:VCALENDAR