BEGIN:VCALENDAR
VERSION:2.0
PRODID:-//Caissa Wolfenb&uuml;ttel e.V. - ECPv6.15.20//NONSGML v1.0//EN
CALSCALE:GREGORIAN
METHOD:PUBLISH
X-ORIGINAL-URL:https://caissa-wolfenbuettel.de
X-WR-CALDESC:Veranstaltungen für Caissa Wolfenb&uuml;ttel e.V.
REFRESH-INTERVAL;VALUE=DURATION:PT1H
X-Robots-Tag:noindex
X-PUBLISHED-TTL:PT1H
BEGIN:VTIMEZONE
TZID:Europe/Berlin
BEGIN:DAYLIGHT
TZOFFSETFROM:+0100
TZOFFSETTO:+0200
TZNAME:CEST
DTSTART:20250330T010000
END:DAYLIGHT
BEGIN:STANDARD
TZOFFSETFROM:+0200
TZOFFSETTO:+0100
TZNAME:CET
DTSTART:20251026T010000
END:STANDARD
BEGIN:DAYLIGHT
TZOFFSETFROM:+0100
TZOFFSETTO:+0200
TZNAME:CEST
DTSTART:20260329T010000
END:DAYLIGHT
BEGIN:STANDARD
TZOFFSETFROM:+0200
TZOFFSETTO:+0100
TZNAME:CET
DTSTART:20261025T010000
END:STANDARD
BEGIN:DAYLIGHT
TZOFFSETFROM:+0100
TZOFFSETTO:+0200
TZNAME:CEST
DTSTART:20270328T010000
END:DAYLIGHT
BEGIN:STANDARD
TZOFFSETFROM:+0200
TZOFFSETTO:+0100
TZNAME:CET
DTSTART:20271031T010000
END:STANDARD
END:VTIMEZONE
BEGIN:VEVENT
DTSTART;TZID=Europe/Berlin:20260505T193000
DTEND;TZID=Europe/Berlin:20260505T210000
DTSTAMP:20260421T135901
CREATED:20251113T183041Z
LAST-MODIFIED:20251113T183041Z
UID:893-1778009400-1778014800@caissa-wolfenbuettel.de
SUMMARY:Monatsblitz Mai 2026
DESCRIPTION:Zeitmodus: 3+2 \nStartzeit: 19:30 Uhr
URL:https://caissa-wolfenbuettel.de/event/monatsblitz-mai-2026/
END:VEVENT
BEGIN:VEVENT
DTSTART;TZID=Europe/Berlin:20260512T000000
DTEND;TZID=Europe/Berlin:20260512T235959
DTSTAMP:20260421T135901
CREATED:20251113T183130Z
LAST-MODIFIED:20251113T183130Z
UID:895-1778544000-1778630399@caissa-wolfenbuettel.de
SUMMARY:4. Runde Vereinsmeisterschaft
DESCRIPTION:
URL:https://caissa-wolfenbuettel.de/event/4-runde-vereinsmeisterschaft/
END:VEVENT
BEGIN:VEVENT
DTSTART;TZID=Europe/Berlin:20260519T000000
DTEND;TZID=Europe/Berlin:20260519T235959
DTSTAMP:20260421T135901
CREATED:20251113T183314Z
LAST-MODIFIED:20251113T183314Z
UID:897-1779148800-1779235199@caissa-wolfenbuettel.de
SUMMARY:Freier Spiel- und Analyseabend
DESCRIPTION:
URL:https://caissa-wolfenbuettel.de/event/freier-spiel-und-analyseabend-2/
END:VEVENT
BEGIN:VEVENT
DTSTART;TZID=Europe/Berlin:20260526T000000
DTEND;TZID=Europe/Berlin:20260526T235959
DTSTAMP:20260421T135901
CREATED:20251113T183355Z
LAST-MODIFIED:20251113T183355Z
UID:899-1779753600-1779839999@caissa-wolfenbuettel.de
SUMMARY:Pfingstferien - Kein Vereinsabend
DESCRIPTION:
URL:https://caissa-wolfenbuettel.de/event/pfingstferien-kein-vereinsabend/
END:VEVENT
BEGIN:VEVENT
DTSTART;TZID=Europe/Berlin:20260530T093000
DTEND;TZID=Europe/Berlin:20260530T180000
DTSTAMP:20260421T135901
CREATED:20260218T094427Z
LAST-MODIFIED:20260218T094959Z
UID:938-1780133400-1780164000@caissa-wolfenbuettel.de
SUMMARY:Schöninger Open 2026
DESCRIPTION:Schnellschachturnier  mit 15+0 min Bedenkzeit \nMehr Informationen unter folgendem Link: \nhttps://schachgemeinschaft-schoeningen.de/schoeninger-open-2024/
URL:https://caissa-wolfenbuettel.de/event/schoeninger-open-2026/
LOCATION:Schöninger Schloss\, Burgplatz 1 A\, 38364 Schöningen
CATEGORIES:Veranstaltung
END:VEVENT
END:VCALENDAR