BEGIN:VCALENDAR
VERSION:2.0
PRODID:-//Caissa Wolfenb&uuml;ttel e.V. - ECPv6.15.20//NONSGML v1.0//EN
CALSCALE:GREGORIAN
METHOD:PUBLISH
X-ORIGINAL-URL:https://caissa-wolfenbuettel.de
X-WR-CALDESC:Veranstaltungen für Caissa Wolfenb&uuml;ttel e.V.
REFRESH-INTERVAL;VALUE=DURATION:PT1H
X-Robots-Tag:noindex
X-PUBLISHED-TTL:PT1H
BEGIN:VTIMEZONE
TZID:Europe/Berlin
BEGIN:DAYLIGHT
TZOFFSETFROM:+0100
TZOFFSETTO:+0200
TZNAME:CEST
DTSTART:20240331T010000
END:DAYLIGHT
BEGIN:STANDARD
TZOFFSETFROM:+0200
TZOFFSETTO:+0100
TZNAME:CET
DTSTART:20241027T010000
END:STANDARD
BEGIN:DAYLIGHT
TZOFFSETFROM:+0100
TZOFFSETTO:+0200
TZNAME:CEST
DTSTART:20250330T010000
END:DAYLIGHT
BEGIN:STANDARD
TZOFFSETFROM:+0200
TZOFFSETTO:+0100
TZNAME:CET
DTSTART:20251026T010000
END:STANDARD
BEGIN:DAYLIGHT
TZOFFSETFROM:+0100
TZOFFSETTO:+0200
TZNAME:CEST
DTSTART:20260329T010000
END:DAYLIGHT
BEGIN:STANDARD
TZOFFSETFROM:+0200
TZOFFSETTO:+0100
TZNAME:CET
DTSTART:20261025T010000
END:STANDARD
BEGIN:DAYLIGHT
TZOFFSETFROM:+0100
TZOFFSETTO:+0200
TZNAME:CEST
DTSTART:20270328T010000
END:DAYLIGHT
BEGIN:STANDARD
TZOFFSETFROM:+0200
TZOFFSETTO:+0100
TZNAME:CET
DTSTART:20271031T010000
END:STANDARD
END:VTIMEZONE
BEGIN:VEVENT
DTSTART;TZID=Europe/Berlin:20251223T000000
DTEND;TZID=Europe/Berlin:20260106T235959
DTSTAMP:20260421T135901
CREATED:20251009T170624Z
LAST-MODIFIED:20251113T181546Z
UID:718-1766448000-1767743999@caissa-wolfenbuettel.de
SUMMARY:Winterferien - Kein Vereinsabend
DESCRIPTION:
URL:https://caissa-wolfenbuettel.de/event/kein-vereinsabend-2/
END:VEVENT
BEGIN:VEVENT
DTSTART;TZID=Europe/Berlin:20260101T000000
DTEND;TZID=Europe/Berlin:20260104T235959
DTSTAMP:20260421T135901
CREATED:20251009T170549Z
LAST-MODIFIED:20251031T154635Z
UID:716-1767225600-1767571199@caissa-wolfenbuettel.de
SUMMARY:DSAM Potsdam
DESCRIPTION:
URL:https://caissa-wolfenbuettel.de/event/dsam-potsdam/
END:VEVENT
BEGIN:VEVENT
DTSTART;TZID=Europe/Berlin:20260106T193000
DTEND;TZID=Europe/Berlin:20260106T213000
DTSTAMP:20260421T135901
CREATED:20251009T170700Z
LAST-MODIFIED:20251031T154615Z
UID:720-1767727800-1767735000@caissa-wolfenbuettel.de
SUMMARY:Monatsblitz Januar
DESCRIPTION:
URL:https://caissa-wolfenbuettel.de/event/monatsblitz-januar/
END:VEVENT
BEGIN:VEVENT
DTSTART;TZID=Europe/Berlin:20260113T000000
DTEND;TZID=Europe/Berlin:20260113T235959
DTSTAMP:20260421T135901
CREATED:20251113T181649Z
LAST-MODIFIED:20251113T181649Z
UID:863-1768262400-1768348799@caissa-wolfenbuettel.de
SUMMARY:Freier Spiel- und Analyseabend
DESCRIPTION:
URL:https://caissa-wolfenbuettel.de/event/freier-spiel-und-analyseabend/
END:VEVENT
BEGIN:VEVENT
DTSTART;TZID=Europe/Berlin:20260118T000000
DTEND;TZID=Europe/Berlin:20260118T235959
DTSTAMP:20260421T135901
CREATED:20250726T180648Z
LAST-MODIFIED:20251031T154554Z
UID:350-1768694400-1768780799@caissa-wolfenbuettel.de
SUMMARY:4. Spieltag Saison 2025/26
DESCRIPTION:
URL:https://caissa-wolfenbuettel.de/event/4-spieltag-saison-2025-26/
END:VEVENT
BEGIN:VEVENT
DTSTART;TZID=Europe/Berlin:20260120T000000
DTEND;TZID=Europe/Berlin:20260120T235959
DTSTAMP:20260421T135901
CREATED:20251113T181737Z
LAST-MODIFIED:20251113T181737Z
UID:865-1768867200-1768953599@caissa-wolfenbuettel.de
SUMMARY:Analyseabend
DESCRIPTION:
URL:https://caissa-wolfenbuettel.de/event/analyseabend-3/
END:VEVENT
BEGIN:VEVENT
DTSTART;TZID=Europe/Berlin:20260127T000000
DTEND;TZID=Europe/Berlin:20260127T235959
DTSTAMP:20260421T135901
CREATED:20251113T181830Z
LAST-MODIFIED:20251113T181830Z
UID:867-1769472000-1769558399@caissa-wolfenbuettel.de
SUMMARY:1. Runde Vereinsmeisterschaft
DESCRIPTION:Zeitmodus: tbd. \nStartzeit: tbd.
URL:https://caissa-wolfenbuettel.de/event/1-runde-vereinsmeisterschaft/
END:VEVENT
END:VCALENDAR