BEGIN:VCALENDAR
VERSION:2.0
PRODID:-//Caissa Wolfenb&uuml;ttel e.V. - ECPv6.15.20//NONSGML v1.0//EN
CALSCALE:GREGORIAN
METHOD:PUBLISH
X-ORIGINAL-URL:https://caissa-wolfenbuettel.de
X-WR-CALDESC:Veranstaltungen für Caissa Wolfenb&uuml;ttel e.V.
REFRESH-INTERVAL;VALUE=DURATION:PT1H
X-Robots-Tag:noindex
X-PUBLISHED-TTL:PT1H
BEGIN:VTIMEZONE
TZID:Europe/Berlin
BEGIN:DAYLIGHT
TZOFFSETFROM:+0100
TZOFFSETTO:+0200
TZNAME:CEST
DTSTART:20250330T010000
END:DAYLIGHT
BEGIN:STANDARD
TZOFFSETFROM:+0200
TZOFFSETTO:+0100
TZNAME:CET
DTSTART:20251026T010000
END:STANDARD
BEGIN:DAYLIGHT
TZOFFSETFROM:+0100
TZOFFSETTO:+0200
TZNAME:CEST
DTSTART:20260329T010000
END:DAYLIGHT
BEGIN:STANDARD
TZOFFSETFROM:+0200
TZOFFSETTO:+0100
TZNAME:CET
DTSTART:20261025T010000
END:STANDARD
BEGIN:DAYLIGHT
TZOFFSETFROM:+0100
TZOFFSETTO:+0200
TZNAME:CEST
DTSTART:20270328T010000
END:DAYLIGHT
BEGIN:STANDARD
TZOFFSETFROM:+0200
TZOFFSETTO:+0100
TZNAME:CET
DTSTART:20271031T010000
END:STANDARD
END:VTIMEZONE
BEGIN:VEVENT
DTSTART;TZID=Europe/Berlin:20260606T000000
DTEND;TZID=Europe/Berlin:20260606T235959
DTSTAMP:20260423T121138
CREATED:20260218T102510Z
LAST-MODIFIED:20260218T102510Z
UID:941-1780704000-1780790399@caissa-wolfenbuettel.de
SUMMARY:Ströbecker Maiturnier
DESCRIPTION:Wir wurden wieder eingeladen am traditionellen Ströbecker Maischachturnier teilzunehmen. Die Orga für unsere Mannschaften macht Marc.
URL:https://caissa-wolfenbuettel.de/event/stroebecker-maiturnier/
END:VEVENT
END:VCALENDAR